BEGIN:VCALENDAR
VERSION:2.0
PRODID:-//s-bc.ru//Sport Business Consulting Magazine
CALSCALE:GREGORIAN
BEGIN:VTIMEZONE
TZID:Europe/Moscow
LAST-MODIFIED:20201011T015911Z
TZURL:http://tzurl.org/zoneinfo-outlook/Europe/Moscow
X-LIC-LOCATION:Europe/Moscow
BEGIN:STANDARD
TZNAME:MSK
TZOFFSETFROM:+0300
TZOFFSETTO:+0300
DTSTART:19700101T000000
END:STANDARD
END:VTIMEZONE
BEGIN:VEVENT
DTSTAMP:20260425T025516Z
UID:a12733a5-cf51-4248-8c10-73b4b056e9bf
DTSTART;VALUE=DATE:20180425
DTEND;VALUE=DATE:20180425
SUMMARY:Волонтерство как эффективный инструмент профориентации и трудоустройства
URL:https://www.s-bc.ru/event/699
DESCRIPTION:Мастер-класс руководителя программ подготовки волонтеров Универсиады-2013 Олимпиады-2014 
LOCATION:Высшая школа экономики (Москва), Трехсвятительский переулок, д. 3., оф. 537
BEGIN:VALARM
ACTION:DISPLAY
DESCRIPTION:Волонтерство как эффективный инструмент профориентации и трудоустройства
TRIGGER:-P1D
END:VALARM
END:VEVENT
END:VCALENDAR
