BEGIN:VCALENDAR
VERSION:2.0
PRODID:-//s-bc.ru//Sport Business Consulting Magazine
CALSCALE:GREGORIAN
BEGIN:VTIMEZONE
TZID:Europe/Moscow
LAST-MODIFIED:20201011T015911Z
TZURL:http://tzurl.org/zoneinfo-outlook/Europe/Moscow
X-LIC-LOCATION:Europe/Moscow
BEGIN:STANDARD
TZNAME:MSK
TZOFFSETFROM:+0300
TZOFFSETTO:+0300
DTSTART:19700101T000000
END:STANDARD
END:VTIMEZONE
BEGIN:VEVENT
DTSTAMP:20260425T030852Z
UID:c2dd1822-8bd2-416f-a58b-8456bdc6a5c5
DTSTART;VALUE=DATE:20180329
DTEND;VALUE=DATE:20180329
SUMMARY:Экскурсия на производство светодиодных светильников
URL:https://www.s-bc.ru/event/695
DESCRIPTION:Уникальная возможность изучить современные технологии спортивного освещения изнутри
LOCATION:Pandora LED, Калуга, 
BEGIN:VALARM
ACTION:DISPLAY
DESCRIPTION:Экскурсия на производство светодиодных светильников
TRIGGER:-P1D
END:VALARM
END:VEVENT
END:VCALENDAR
